BEGIN:VCALENDAR
VERSION:2.0
CALSCALE:GREGORIAN
METHOD:PUBLISH
X-WR-TIMEZONE:Australia/Sydney
BEGIN:VTIMEZONE
TZID:Australia/Sydney
BEGIN:STANDARD
TZNAME:AEST
END:STANDARD
END:VTIMEZONE
BEGIN:VEVENT
DTSTART;TZID=Australia/Sydney:20250506
DTEND;TZID=Australia/Sydney:20250506
DTSTAMP:20260420T061930
UID:225
SUMMARY:P&amp;C Mother&#039;s Day Stall
DESCRIPTION:




Each class is provided with the opportunity for students to purchase items from the P&amp;amp;C Mother&#039;s Day Stall. Room 11. Timetable to be provided.


SEQUENCE:0
STATUS:CONFIRMED
TRANSP:OPAQUE
END:VEVENT
END:VCALENDAR